BEGIN:VCALENDAR
VERSION:2.0
PRODID:-//Tukios.com/
BEGIN:VEVENT
UID:c85346a9-0617-42e7-ab34-f320111f3e2c@www.fredjenkinsfuneralhome.com
DTSTAMP:20260425T210455Z
DTSTART:20260428T180000Z
DTEND:20260428T190000Z
SUMMARY:Funeral Service
DESCRIPTION:
URL:https://www.fredjenkinsfuneralhome.com/obituaries/roxanne-boyce
LOCATION:Fred L Jenkins Funeral Home 10 S. High St.  Morgantown WV 26501
GEO:39.6260788;-79.9597294
END:VEVENT
END:VCALENDAR