BEGIN:VCALENDAR
VERSION:2.0
PRODID:-//Tukios.com/
BEGIN:VEVENT
UID:9e57cd1c-ab44-4cba-b47a-505f9f07d498@www.fredjenkinsfuneralhome.com
DTSTAMP:20260425T211245Z
DTSTART:20260428T160000Z
DTEND:20260428T180000Z
SUMMARY:Gathering of Family & Friends
DESCRIPTION:
URL:https://www.fredjenkinsfuneralhome.com/obituaries/roxanne-boyce
LOCATION:Fred L Jenkins Funeral Home 10 South High Street  Morgantown WV 
	26501
GEO:39.6260788;-79.9597294
END:VEVENT
END:VCALENDAR