BEGIN:VCALENDAR
VERSION:2.0
PRODID:-//Tukios.com/
BEGIN:VEVENT
UID:66735498-6406-4d80-961c-a6533ae3790c@www.fredjenkinsfuneralhome.com
DTSTAMP:20260421T194002Z
DTSTART:20260424T200000Z
DTEND:20260424T230000Z
SUMMARY:Gathering of Family & Friends
DESCRIPTION:
URL:https://www.fredjenkinsfuneralhome.com/obituaries/edgar-henkins
LOCATION:Fred L Jenkins Funeral Home 10 South High Street  Morgantown WV 
	26501
GEO:39.6260788;-79.9597294
END:VEVENT
END:VCALENDAR