BEGIN:VCALENDAR
VERSION:2.0
PRODID:-//Tukios.com/
BEGIN:VEVENT
UID:4543c45e-5ec1-409f-b0fe-125947dd3578@www.fredjenkinsfuneralhome.com
DTSTAMP:20260421T194002Z
DTSTART:20260425T150000Z
DTEND:20260425T160000Z
SUMMARY:Gathering of Family & Friends
DESCRIPTION:
URL:https://www.fredjenkinsfuneralhome.com/obituaries/edgar-henkins
LOCATION:Fred L Jenkins Funeral Home 10 South High Street  Morgantown WV 
	26501
GEO:39.6260788;-79.9597294
END:VEVENT
END:VCALENDAR